BEGIN:VCALENDAR
VERSION:2.0
PRODID:icalendar-ruby
CALSCALE:GREGORIAN
METHOD:PUBLISH
BEGIN:VEVENT
DTSTAMP:20260421T185948Z
UID:91-1818898@oneontaag.com
DTSTART:20261013T220000Z
DTEND:20261014T000000Z
CLASS:PUBLIC
CREATED:20260421T130228
DESCRIPTION:
LAST-MODIFIED:20260421T130228
LOCATION:Oneonta Assembly of God
SUMMARY:Men's Bible Study
URL;VALUE=URI:https://oneontaag.com/events/mens-bible-study/2026-10-13
ATTACH;FILENAME=Discipleship resources.jpg;FMTTYPE=image/jpeg:https://dq5pw
 pg1q8ru0.cloudfront.net/2026/02/13/16/56/07/2defbb6f-3ce2-472f-ae23-428338
 ca8ba0/Discipleship%20resources.jpg
END:VEVENT
END:VCALENDAR
